BEGIN:VCALENDAR
VERSION:2.0
PRODID:-//John Caparulo - ECPv4.6.25//NONSGML v1.0//EN
CALSCALE:GREGORIAN
METHOD:PUBLISH
X-WR-CALNAME:John Caparulo
X-ORIGINAL-URL:https://johncaparulo.com
X-WR-CALDESC:Events for John Caparulo
BEGIN:VEVENT
DTSTART;TZID=UTC-4:20200717T213000
DTEND;TZID=UTC-4:20200717T213000
DTSTAMP:20260419T130243
CREATED:20200509T061243Z
LAST-MODIFIED:20200627T224636Z
UID:3203-1595021400-1595021400@johncaparulo.com
SUMMARY:Cleveland\, OH
DESCRIPTION:
URL:https://johncaparulo.com/event/cleveland-oh-25/
LOCATION:Hilarities 4th Street Theatre\, 2035 East 4th Street\, Cleveland\, OH\, 44115\, United States
END:VEVENT
END:VCALENDAR